BEGIN:VCALENDAR
VERSION:2.0
PRODID:-//XLH UK - ECPv6.15.17.1//NONSGML v1.0//EN
CALSCALE:GREGORIAN
METHOD:PUBLISH
X-ORIGINAL-URL:https://xlhuk.org
X-WR-CALDESC:Events for XLH UK
REFRESH-INTERVAL;VALUE=DURATION:PT1H
X-Robots-Tag:noindex
X-PUBLISHED-TTL:PT1H
BEGIN:VTIMEZONE
TZID:UTC
BEGIN:STANDARD
TZOFFSETFROM:+0000
TZOFFSETTO:+0000
TZNAME:UTC
DTSTART:20230101T000000
END:STANDARD
END:VTIMEZONE
BEGIN:VEVENT
DTSTART;TZID=UTC:20240602T110000
DTEND;TZID=UTC:20240602T150000
DTSTAMP:20260419T122742
CREATED:20240309T115623Z
LAST-MODIFIED:20240607T080312Z
UID:29617-1717326000-1717340400@xlhuk.org
SUMMARY:XLH UK Community Day 2024
DESCRIPTION:Our 2024 Community Day was a great success! Held on Sunday 2nd June at the National Conference Centre\, Birmingham we had the highest attendance ever and enjoyed a sunny day in a light and airy venue. \nWe had an informative talk from Professor Kassim Javaid who shared the latest medical thinking on XLH. Luke Jenkinson\, a trained physiotherapist\, shared his perspective on how physiotherapy and exercise can help those with XLH manage pain and improve recovery from surgery. Kieron Innes\, a talented young gymnast with XLH\, shared with us how his sporting career is developing. \nAfter the traditional group photo and a delicious lunch\, there was the opportunity to chat. The children were delighted with the face painting and the opportunity to blow bubbles around the courtyard with a surprise appearance from Princess Ariel. The slides from the event are available here.
URL:https://xlhuk.org/event/xlh-uk-community-day/
LOCATION:National Conference Centre\, Birmingham\, Coventry Road\, B92 0EJ\, United Kingdom
CATEGORIES:Conference and webinar,Past Events
ATTACH;FMTTYPE=image/png:https://xlhuk.org/wp-content/uploads/2024/06/Group-550-x-350-px.png
ORGANIZER;CN="XLH UK":MAILTO:contact@xlhuk.org
END:VEVENT
END:VCALENDAR