BEGIN:VCALENDAR
VERSION:2.0
PRODID:-//XLH UK - ECPv6.15.17.1//NONSGML v1.0//EN
CALSCALE:GREGORIAN
METHOD:PUBLISH
X-ORIGINAL-URL:https://xlhuk.org
X-WR-CALDESC:Events for XLH UK
REFRESH-INTERVAL;VALUE=DURATION:PT1H
X-Robots-Tag:noindex
X-PUBLISHED-TTL:PT1H
BEGIN:VTIMEZONE
TZID:UTC
BEGIN:STANDARD
TZOFFSETFROM:+0000
TZOFFSETTO:+0000
TZNAME:UTC
DTSTART:20240101T000000
END:STANDARD
END:VTIMEZONE
BEGIN:VEVENT
DTSTART;TZID=UTC:20251112T180000
DTEND;TZID=UTC:20251112T190000
DTSTAMP:20260419T124503
CREATED:20250617T170230Z
LAST-MODIFIED:20251104T140715Z
UID:30439-1762970400-1762974000@xlhuk.org
SUMMARY:Connect - 12th November 2025
DESCRIPTION:Our community is a valuable source of information and support. From tips and tricks to a listening ear\, meeting others from our community can be a source of comfort or inspiration. Following requests to have more opportunities to meet others in the community\, we host discussions for you to share your experience of XLH\, or to listen to what others have experienced. \nThis Connect will take place on Zoom on Wednesday 12th November from 18.00-19.00. \nIf you want to join\, you need to register in advance.  \nTo register with Zoom please CLICK HERE
URL:https://xlhuk.org/event/connect-november-2025/
LOCATION:Zoom (online meeting)
CATEGORIES:Online Support Meeting
ATTACH;FMTTYPE=image/png:https://xlhuk.org/wp-content/uploads/2023/09/Connect-Icon.png
ORGANIZER;CN="XLH UK":MAILTO:contact@xlhuk.org
END:VEVENT
END:VCALENDAR